BEGIN:VCALENDAR
X-WR-TIMEZONE:Europe/Berlin
X-WR-CALNAME:rbb-Kalender
VERSION:2.0
METHOD:PUBLISH
CALSCALE:GREGORIAN
PRODID:rbb-CMS DAY
BEGIN:VEVENT
CLASS:PUBLIC
URL:http://www.rbb-online.de/content/rbb/rbb/abendschau/ausflugstipps/beitraege/plauer_fischerjakobi.html
DTEND:20130726T193000
DTSTART:20130726T193000
UID:/content/rbb/rbb/abendschau/ausflugstipps/beitraege/plauer_fischerjakobi
DTSTAMP:20140406T110646
DESCRIPTION:Der Ausflugstipp führt an diesem Wochenende nach Plaue, einem Ortsteil von Brandenburg an der Havel. Auf dem Schlosshof, am Ufer der Havel und in der Kirche startet am Freitag der Fischerjakobi, ein dreitägiges Volksfest, benannt nach dem Schutzheiligen der Fischer.\n
SUMMARY:Plaue an der Havel
END:VEVENT
END:VCALENDAR
