BEGIN:VCALENDAR
X-WR-TIMEZONE:Europe/Berlin
X-WR-CALNAME:rbb-Kalender
VERSION:2.0
METHOD:PUBLISH
CALSCALE:GREGORIAN
PRODID:rbb-CMS DAY
BEGIN:VEVENT
CLASS:PUBLIC
URL:http://www.rbb-online.de/content/rbb/rbb/abendschau/ausflugstipps/beitraege/schlosspark_babelsberg.html
DTEND:20130531T193000
DTSTART:20130531T193000
UID:/content/rbb/rbb/abendschau/ausflugstipps/beitraege/schlosspark_babelsberg
DTSTAMP:20140406T110537
DESCRIPTION:Wer auf der Glienicker Brücke in Wannsee steht, erblickt südlich einen Landschaftspark im englischen Stil: den Park Babelsberg. Wir stellen ihn im Rahmen unseres Ausflugstipps in dieser Woche vor.
SUMMARY:Park Babelsberg
END:VEVENT
END:VCALENDAR
