BEGIN:VCALENDAR
X-WR-TIMEZONE:Europe/Berlin
X-WR-CALNAME:rbb-Kalender
VERSION:2.0
METHOD:PUBLISH
CALSCALE:GREGORIAN
PRODID:rbb-CMS DAY
BEGIN:VEVENT
CLASS:PUBLIC
URL:http://www.rbb-online.de/content/rbb/rbb/abendschau/ausflugstipps/beitraege/wandern-wuhletal.html
DTEND:20130823T200000
DTSTART:20130823T193000
UID:/content/rbb/rbb/abendschau/ausflugstipps/beitraege/wandern-wuhletal
DTSTAMP:20140406T110632
DESCRIPTION:Der Wanderweg beiderseits der Wuhle ist der längste (15,4 km) und bedeutendste Wanderweg in Marzahn-Hellersdorf. Es gibt Rastplätze, Bänke und Aussichtsplattformen - und die Kulisse der Marzahner Plattenbauten. Wir wandern entlang des Wasserlaufs.\n
SUMMARY:Wandern im Wuhletal
END:VEVENT
END:VCALENDAR
