BEGIN:VCALENDAR
X-WR-TIMEZONE:Europe/Berlin
X-WR-CALNAME:rbb-Kalender
VERSION:2.0
METHOD:PUBLISH
CALSCALE:GREGORIAN
PRODID:rbb-CMS DAY
BEGIN:VEVENT
CLASS:PUBLIC
URL:http://www.rbb-online.de/content/rbb/rbb/abendschau/ausflugstipps/beitraege/weihnachtsmarkt-festung-koenigstein.html
DTEND:20131213T200000
DTSTART:20131213T193000
UID:/content/rbb/rbb/abendschau/ausflugstipps/beitraege/weihnachtsmarkt-festung-koenigstein
DTSTAMP:20140405T100139
DESCRIPTION:Der traditionsreiche Weihnachtsmarkt auf einer der größten Bergfestungen Europas gilt als der schönste im Elbsandsteingebirge. Die unbezwingbare Wehranlage Königstein wurde Jahrhunderte von den sächsischen Herzögen und Kurfürsten vor allem als Rückzugsort in Kriegszeiten genutzt.\n
SUMMARY:Weihnachtsmarkt auf der Festung 
END:VEVENT
END:VCALENDAR
