BEGIN:VCALENDAR
X-WR-TIMEZONE:Europe/Berlin
X-WR-CALNAME:rbb-Kalender
VERSION:2.0
METHOD:PUBLISH
CALSCALE:GREGORIAN
PRODID:rbb-CMS DAY
BEGIN:VEVENT
CLASS:PUBLIC
URL:http://www.rbb-online.de/content/rbb/rbb/abendschau/serien/berlin_von_a_z/abendschau_20120603_abisz.html
DTEND:20120603T193000
DTSTART:20120603T193000
UID:/content/rbb/rbb/abendschau/serien/berlin_von_a_z/abendschau_20120603_abisz
DTSTAMP:20140405T103527
DESCRIPTION:Jeden Sonntag stellen wir einen der insgesamt 95 Berliner Ortsteile vor. Diesmal sind wir in Haselhorst. Dieser Ortsteil von Spandau liegt östlich der Havel und hat ein winziges kleinstädtisches Zentrum.\n
SUMMARY:Haselhorst
END:VEVENT
END:VCALENDAR
