BEGIN:VCALENDAR
X-WR-TIMEZONE:Europe/Berlin
X-WR-CALNAME:rbb-Kalender
VERSION:2.0
METHOD:PUBLISH
CALSCALE:GREGORIAN
PRODID:rbb-CMS DAY
BEGIN:VEVENT
CLASS:PUBLIC
URL:http://www.rbb-online.de/content/rbb/rbb/abendschau/serien/berlin_von_a_z/altglienicke.html
DTEND:20111030T193000
DTSTART:20111030T193000
UID:/content/rbb/rbb/abendschau/serien/berlin_von_a_z/altglienicke
DTSTAMP:20140405T102722
DESCRIPTION:Altglienicke grenzt an Brandenburg und das Herz des Ortsteils befindet sich rund um eine Kirche. Ein 100 Jahre alter Wasserturm und Neubauviertel kennzeichnen Altglienicke, aber auch der ehemalige Grenzstreifen zwischen Ost und West, der nun beide Teile durch einen Park miteinander verbindet.\n
SUMMARY:Altglienicke
END:VEVENT
END:VCALENDAR
