BEGIN:VCALENDAR
X-WR-TIMEZONE:Europe/Berlin
X-WR-CALNAME:rbb-Kalender
VERSION:2.0
METHOD:PUBLISH
CALSCALE:GREGORIAN
PRODID:rbb-CMS DAY
BEGIN:VEVENT
CLASS:PUBLIC
URL:http://www.rbb-online.de/content/rbb/rbb/abendschau/serien/berlin_von_a_z/baumschulenweg.html
DTEND:20120729T193000
DTSTART:20120729T193000
UID:/content/rbb/rbb/abendschau/serien/berlin_von_a_z/baumschulenweg
DTSTAMP:20140405T103514
DESCRIPTION:Alles fing damit an, dass Franz Spät im 19. Jahrhundert rund um sein Herrenhaus Baumreihen pflanzen ließ. Heute ist die vielbefahrene Späthstraße nach ihm benannt - und nach seinen Baumschulen ein gesamter Ortsteil mitsamt Bahnhof.\n
SUMMARY:Baumschulenweg
END:VEVENT
END:VCALENDAR
