BEGIN:VCALENDAR
X-WR-TIMEZONE:Europe/Berlin
X-WR-CALNAME:rbb-Kalender
VERSION:2.0
METHOD:PUBLISH
CALSCALE:GREGORIAN
PRODID:rbb-CMS DAY
BEGIN:VEVENT
CLASS:PUBLIC
URL:http://www.rbb-online.de/content/rbb/rbb/abendschau/serien/berlin_von_a_z/berlin_von_a_bis_z.html
DTEND:20121104T193000
DTSTART:20121104T193000
UID:/content/rbb/rbb/abendschau/serien/berlin_von_a_z/berlin_von_a_bis_z
DTSTAMP:20140405T103000
DESCRIPTION:Kommt man vom S-Bahnhof Schöneweide, ist es schwer vorstellbar, dass diese Ecke mal "Bad Johannisthal" hieß. Aber rechts und links vom Sterndamm weist doch einiges darauf hin, dass es dort mal deutlich ruhiger zugegangen ist. Dort liegt auch das historische Rathaus.\n
SUMMARY:Johannisthal
END:VEVENT
END:VCALENDAR
