BEGIN:VCALENDAR
X-WR-TIMEZONE:Europe/Berlin
X-WR-CALNAME:rbb-Kalender
VERSION:2.0
METHOD:PUBLISH
CALSCALE:GREGORIAN
PRODID:rbb-CMS DAY
BEGIN:VEVENT
CLASS:PUBLIC
URL:http://www.rbb-online.de/content/rbb/rbb/abendschau/serien/berlin_von_a_z/berlin_von_a_z__wittenau.html
DTEND:20120909T193000
DTSTART:20120909T193000
UID:/content/rbb/rbb/abendschau/serien/berlin_von_a_z/berlin_von_a_z__wittenau
DTSTAMP:20140405T102711
DESCRIPTION:Berlin von A bis Z heißt unsere Abendschau-Serie, in der wir Ihnen jeden Sonntag einen der insgesamt 96 Berliner Ortsteile besuchen. Auf unseren Streifzügen lassen wir Menschen zu Worte kommen, die dort leben und die wir zufällig treffen. Diesmal sind wir in Wittenau.\n
SUMMARY:Wittenau
END:VEVENT
END:VCALENDAR
