BEGIN:VCALENDAR
X-WR-TIMEZONE:Europe/Berlin
X-WR-CALNAME:rbb-Kalender
VERSION:2.0
METHOD:PUBLISH
CALSCALE:GREGORIAN
PRODID:rbb-CMS DAY
BEGIN:VEVENT
CLASS:PUBLIC
URL:http://www.rbb-online.de/content/rbb/rbb/abendschau/serien/berlin_von_a_z/britz.html
DTEND:20110828T193000
DTSTART:20110828T193000
UID:/content/rbb/rbb/abendschau/serien/berlin_von_a_z/britz
DTSTAMP:20140405T103022
DESCRIPTION:In Britz steht mit der Hufeisensiedlung sogar ein Unesco-Welterbe. Und irgendwie scheint in Britz auch alles nach dem Ortsteil benannt zu sein: Bäcker, Cafés, Bars oder eben das Schloss Britz. Außerdem entsteht in Britz eine neue Kulturstätte samt Freilichtbühne und wir treffen ein gut gelauntes Hochzeitspaar.\n
SUMMARY:Britz
END:VEVENT
END:VCALENDAR
