BEGIN:VCALENDAR
X-WR-TIMEZONE:Europe/Berlin
X-WR-CALNAME:rbb-Kalender
VERSION:2.0
METHOD:PUBLISH
CALSCALE:GREGORIAN
PRODID:rbb-CMS DAY
BEGIN:VEVENT
CLASS:PUBLIC
URL:http://www.rbb-online.de/content/rbb/rbb/abendschau/serien/berlin_von_a_z/buckow.html
DTEND:20111120T193000
DTSTART:20111120T193000
UID:/content/rbb/rbb/abendschau/serien/berlin_von_a_z/buckow
DTSTAMP:20140405T103817
DESCRIPTION:Ist man hoch genug, z.B. auf einem großen Gebäude, kann man von Buckow aus bereits Brandenburg sehen. Wir treffen zwei Witwen, die sich aus der gemeinsamen Schulzeit kennen und sich selbst zu alt finden, um "inne Disse zu gehen".\n
SUMMARY:Buckow
END:VEVENT
END:VCALENDAR
