BEGIN:VCALENDAR
X-WR-TIMEZONE:Europe/Berlin
X-WR-CALNAME:rbb-Kalender
VERSION:2.0
METHOD:PUBLISH
CALSCALE:GREGORIAN
PRODID:rbb-CMS DAY
BEGIN:VEVENT
CLASS:PUBLIC
URL:http://www.rbb-online.de/content/rbb/rbb/abendschau/serien/berlin_von_a_z/charlottenburg.html
DTEND:20120527T193000
DTSTART:20120527T193000
UID:/content/rbb/rbb/abendschau/serien/berlin_von_a_z/charlottenburg
DTSTAMP:20140405T103456
DESCRIPTION:Charlottenburg hat viele Sehenswürdigkeiten. Neben wunderschönen historischen Gebäuden wie dem Schloss und beliebten Plätzen wie dem Savignyplatz, gibt es hier sogar einen See mitten in der Stadt: den Lietzensee.\n
SUMMARY:Charlottenburg
END:VEVENT
END:VCALENDAR
