BEGIN:VCALENDAR
X-WR-TIMEZONE:Europe/Berlin
X-WR-CALNAME:rbb-Kalender
VERSION:2.0
METHOD:PUBLISH
CALSCALE:GREGORIAN
PRODID:rbb-CMS DAY
BEGIN:VEVENT
CLASS:PUBLIC
URL:http://www.rbb-online.de/content/rbb/rbb/abendschau/serien/berlin_von_a_z/falkenhagener_feld.html
DTEND:20110807T193000
DTSTART:20110807T193000
UID:/content/rbb/rbb/abendschau/serien/berlin_von_a_z/falkenhagener_feld
DTSTAMP:20140405T103733
DESCRIPTION:Im Ortsteil Falkenhagener Feld finden wir eine Großsiedlung, die Anfang der Sechzigerjahre des vergangenen Jahrhunderts wegen des Wohnungsmangels gebaut wurde. Damals standen die Bauten noch für modernes Wohnen, heute gelten sie als verschrieene Hochhäuser. Doch der Ortsteil hat noch mehr zu bieten, z.B. das Naherholungsfeld am Kiesteich.\n
SUMMARY:Falkenhagener Feld
END:VEVENT
END:VCALENDAR
