BEGIN:VCALENDAR
X-WR-TIMEZONE:Europe/Berlin
X-WR-CALNAME:rbb-Kalender
VERSION:2.0
METHOD:PUBLISH
CALSCALE:GREGORIAN
PRODID:rbb-CMS DAY
BEGIN:VEVENT
CLASS:PUBLIC
URL:http://www.rbb-online.de/content/rbb/rbb/abendschau/serien/berlin_von_a_z/friedenau.html
DTEND:20111211T193000
DTSTART:20111211T193000
UID:/content/rbb/rbb/abendschau/serien/berlin_von_a_z/friedenau
DTSTAMP:20140405T103146
DESCRIPTION:Friedenau ist einer der kleinsten und am dichtesten besiedelten Ortsteile Berlins. Wir finden enge Straßen und viele Altbauten vor und stellen fest, dass einige berühmte Berliner auf dem Friedenauer Friedhof begraben sind.\n
SUMMARY:Friedenau
END:VEVENT
END:VCALENDAR
