BEGIN:VCALENDAR
X-WR-TIMEZONE:Europe/Berlin
X-WR-CALNAME:rbb-Kalender
VERSION:2.0
METHOD:PUBLISH
CALSCALE:GREGORIAN
PRODID:rbb-CMS DAY
BEGIN:VEVENT
CLASS:PUBLIC
URL:http://www.rbb-online.de/content/rbb/rbb/abendschau/serien/berlin_von_a_z/friedrichshain.html
DTEND:20121028T193000
DTSTART:20121028T193000
UID:/content/rbb/rbb/abendschau/serien/berlin_von_a_z/friedrichshain
DTSTAMP:20140405T103211
DESCRIPTION:Vor dem Zweiten Weltkrieg und zu DDR-Zeiten war Friedrichshain ein Arbeiterbezirk mit vielen Industrie- und Gewerbebetrieben. Der im Süden gelegene Osthafen war einer der wichtigsten Warenumschlagplätze in Ost-Berlin.\n
SUMMARY:Friedrichshain
END:VEVENT
END:VCALENDAR
