BEGIN:VCALENDAR
X-WR-TIMEZONE:Europe/Berlin
X-WR-CALNAME:rbb-Kalender
VERSION:2.0
METHOD:PUBLISH
CALSCALE:GREGORIAN
PRODID:rbb-CMS DAY
BEGIN:VEVENT
CLASS:PUBLIC
URL:http://www.rbb-online.de/content/rbb/rbb/abendschau/serien/berlin_von_a_z/gesundbrunnen.html
DTEND:20120708T193000
DTSTART:20120708T193000
UID:/content/rbb/rbb/abendschau/serien/berlin_von_a_z/gesundbrunnen
DTSTAMP:20140405T103120
DESCRIPTION:Berlin von A bis Z heißt unsere Abendschau-Serie, in der wir Ihnen jeden Sonntag einen der insgesamt 95 Berliner Ortsteile vorstellen. Diesmal sind wir in Gesundbrunnen. Die Gegend hat ihren Namen einer Quelle zu verdanken, die im 18. Jahrhundert entdeckt wurde und Gesundbrunnen zum Kurort machte.\n
SUMMARY:Gesundbrunnen
END:VEVENT
END:VCALENDAR
