BEGIN:VCALENDAR
X-WR-TIMEZONE:Europe/Berlin
X-WR-CALNAME:rbb-Kalender
VERSION:2.0
METHOD:PUBLISH
CALSCALE:GREGORIAN
PRODID:rbb-CMS DAY
BEGIN:VEVENT
CLASS:PUBLIC
URL:http://www.rbb-online.de/content/rbb/rbb/abendschau/serien/berlin_von_a_z/halensee.html
DTEND:20121021T193000
DTSTART:20121021T193000
UID:/content/rbb/rbb/abendschau/serien/berlin_von_a_z/halensee
DTSTAMP:20140405T103631
DESCRIPTION:Nach dem Hansaviertel ist Halensee der zweitkleinste Ortsteil Berlins. Gerade mal 1,27 km² ist er groß. Erst 2004 wurde er eigener Ortsteil, 12.656 Einwohner residieren hier. Der Halensee allerdings, nachdem der Ortsteil benannt wurde, liegt auf der anderen Seite der S-Bahn - in Grunewald.\n
SUMMARY:Halensee
END:VEVENT
END:VCALENDAR
