BEGIN:VCALENDAR
X-WR-TIMEZONE:Europe/Berlin
X-WR-CALNAME:rbb-Kalender
VERSION:2.0
METHOD:PUBLISH
CALSCALE:GREGORIAN
PRODID:rbb-CMS DAY
BEGIN:VEVENT
CLASS:PUBLIC
URL:http://www.rbb-online.de/content/rbb/rbb/abendschau/serien/berlin_von_a_z/heinersdorf.html
DTEND:20120624T193000
DTSTART:20120624T193000
UID:/content/rbb/rbb/abendschau/serien/berlin_von_a_z/heinersdorf
DTSTAMP:20140405T103359
DESCRIPTION:Heinersdorf, heute im Bezirk Pankow, wurde 1319 erstmals urkundlich erwähnt, als es für 150 Mark brandenburgischen Silbers als Hinriksdorf von Markgraf Woldemar an das Heiligengeisthospital in Berlin verkauft wurde.\n
SUMMARY:Heinersdorf
END:VEVENT
END:VCALENDAR
