BEGIN:VCALENDAR
X-WR-TIMEZONE:Europe/Berlin
X-WR-CALNAME:rbb-Kalender
VERSION:2.0
METHOD:PUBLISH
CALSCALE:GREGORIAN
PRODID:rbb-CMS DAY
BEGIN:VEVENT
CLASS:PUBLIC
URL:http://www.rbb-online.de/content/rbb/rbb/abendschau/serien/berlin_von_a_z/hermsdorf_.html
DTEND:20130317T193000
DTSTART:20130317T193000
UID:/content/rbb/rbb/abendschau/serien/berlin_von_a_z/hermsdorf_
DTSTAMP:20140405T102801
DESCRIPTION:Hermsdorf liegt im zentralen Norden Reinickendorfs. Der Ursprung Hermsdorfs liegt etwa einen Kilometer westlich des Hermsdorfer Sees, dem größten Gewässer des Ortsteils.\n
SUMMARY:Hermsdorf
END:VEVENT
END:VCALENDAR
