BEGIN:VCALENDAR
X-WR-TIMEZONE:Europe/Berlin
X-WR-CALNAME:rbb-Kalender
VERSION:2.0
METHOD:PUBLISH
CALSCALE:GREGORIAN
PRODID:rbb-CMS DAY
BEGIN:VEVENT
CLASS:PUBLIC
URL:http://www.rbb-online.de/content/rbb/rbb/abendschau/serien/berlin_von_a_z/lankwitz.html
DTEND:20120325T193000
DTSTART:20120325T193000
UID:/content/rbb/rbb/abendschau/serien/berlin_von_a_z/lankwitz
DTSTAMP:20140405T103903
DESCRIPTION:Der Ortsteil Lankwitz gehört zum Bezirk Steglitz-Zehlendorf. Wir treffen hier Reinhold Habel, bei dem die Lankwitzer seit Jahrzehnten alles finden, was man so gebrauchen kann. Der Name Lankwitz enstand aus dem Fluss Lanke, an dessen Quelle heute nur noch ein Gedenkstein erinnert.\n
SUMMARY:Lankwitz
END:VEVENT
END:VCALENDAR
