BEGIN:VCALENDAR
X-WR-TIMEZONE:Europe/Berlin
X-WR-CALNAME:rbb-Kalender
VERSION:2.0
METHOD:PUBLISH
CALSCALE:GREGORIAN
PRODID:rbb-CMS DAY
BEGIN:VEVENT
CLASS:PUBLIC
URL:http://www.rbb-online.de/content/rbb/rbb/abendschau/serien/berlin_von_a_z/lichtenrade.html
DTEND:20110724T193000
DTSTART:20110724T193000
UID:/content/rbb/rbb/abendschau/serien/berlin_von_a_z/lichtenrade
DTSTAMP:20140405T103626
DESCRIPTION:Alteingesessene Geschäfte, Nachbarn, die sich noch so richtig was zu sagen haben, und eine Bahnhofsstraße als Zentrum - Willkommen in Lichtenrade. Außerdem zeigen wir Ihnen eine Familie mit äußerst ungewöhnlichen Mitbewohnern.\n
SUMMARY:Lichtenrade
END:VEVENT
END:VCALENDAR
