BEGIN:VCALENDAR
X-WR-TIMEZONE:Europe/Berlin
X-WR-CALNAME:rbb-Kalender
VERSION:2.0
METHOD:PUBLISH
CALSCALE:GREGORIAN
PRODID:rbb-CMS DAY
BEGIN:VEVENT
CLASS:PUBLIC
URL:http://www.rbb-online.de/content/rbb/rbb/abendschau/serien/berlin_von_a_z/maerkisches_viertel.html
DTEND:20110911T193000
DTSTART:20110911T193000
UID:/content/rbb/rbb/abendschau/serien/berlin_von_a_z/maerkisches_viertel
DTSTAMP:20140405T103154
DESCRIPTION:Zweimal pro Woche ist Markt im Märkischen Viertel und nach Harald Kowalski (67) trifft man hier die schönsten Frauen. Der Marktplatz ist umgeben von Hochhäusern, die in den Sechziger- und Siebzigerjahren des vergangenen Jahrhunderts entstanden sind, damals eines der größten Wohnungsprojekte Berlins. Auch Hundebesitzer und deren Vierbeiner kommen im Märkischen Viertel auf ihre Kosten - nämlich auf dem Hundesportplatz!\n
SUMMARY:Märkisches Viertel
END:VEVENT
END:VCALENDAR
