BEGIN:VCALENDAR
X-WR-TIMEZONE:Europe/Berlin
X-WR-CALNAME:rbb-Kalender
VERSION:2.0
METHOD:PUBLISH
CALSCALE:GREGORIAN
PRODID:rbb-CMS DAY
BEGIN:VEVENT
CLASS:PUBLIC
URL:http://www.rbb-online.de/content/rbb/rbb/abendschau/serien/berlin_von_a_z/marienfelde.html
DTEND:20120219T193000
DTSTART:20120219T193000
UID:/content/rbb/rbb/abendschau/serien/berlin_von_a_z/marienfelde
DTSTAMP:20140405T103103
DESCRIPTION:Eine der ältesten Dorfkirchen Berlins befindet sich in Marienfelde. Einzigartig ist wohl auch der Eierautomat von Bauer Lehmann. Ist sein Geschäft geschlossen, brauchen sich die Menschen in Marienfelde keine Gedanken zu machen: Münze rein, Eier raus. Eine mittlerweile 60 Jahre bestehende Geschäftsidee.\n
SUMMARY:Marienfelde
END:VEVENT
END:VCALENDAR
