BEGIN:VCALENDAR
X-WR-TIMEZONE:Europe/Berlin
X-WR-CALNAME:rbb-Kalender
VERSION:2.0
METHOD:PUBLISH
CALSCALE:GREGORIAN
PRODID:rbb-CMS DAY
BEGIN:VEVENT
CLASS:PUBLIC
URL:http://www.rbb-online.de/content/rbb/rbb/abendschau/serien/berlin_von_a_z/moabit.html
DTEND:20120617T193000
DTSTART:20120617T193000
UID:/content/rbb/rbb/abendschau/serien/berlin_von_a_z/moabit
DTSTAMP:20140405T103650
DESCRIPTION:Willkommen auf der Insel. Moabit ist, was die meisten gar nicht wissen, komplett von Wasser umgeben, aber über gut zwei Dutzend Brücken gut zu erreichen. Moabit ist für sein Gerichtsgebäude und das Gefängnis bekannt.\n
SUMMARY:Moabit
END:VEVENT
END:VCALENDAR
