BEGIN:VCALENDAR
X-WR-TIMEZONE:Europe/Berlin
X-WR-CALNAME:rbb-Kalender
VERSION:2.0
METHOD:PUBLISH
CALSCALE:GREGORIAN
PRODID:rbb-CMS DAY
BEGIN:VEVENT
CLASS:PUBLIC
URL:http://www.rbb-online.de/content/rbb/rbb/abendschau/serien/berlin_von_a_z/mueggelheim.html
DTEND:20110814T193000
DTSTART:20110814T193000
UID:/content/rbb/rbb/abendschau/serien/berlin_von_a_z/mueggelheim
DTSTAMP:20140405T103641
DESCRIPTION:Müggelheim ist laut Kriminalstatistik der sicherste Ortsteil Berlins. Im Ausflugslokal Neu-Helgoland treffen wir auf eine fröhliche Meute Menschen, die trinkt, singt und tanzt. Diese Idylle wird wohl nur gestört, wenn Flieger des neuen Flughafen Berlins ab Juni 2012 hier ihre Kreise ziehen werden.\n
SUMMARY:Müggelheim
END:VEVENT
END:VCALENDAR
