BEGIN:VCALENDAR
X-WR-TIMEZONE:Europe/Berlin
X-WR-CALNAME:rbb-Kalender
VERSION:2.0
METHOD:PUBLISH
CALSCALE:GREGORIAN
PRODID:rbb-CMS DAY
BEGIN:VEVENT
CLASS:PUBLIC
URL:http://www.rbb-online.de/content/rbb/rbb/abendschau/serien/berlin_von_a_z/niederschoeneweide.html
DTEND:20130407T193000
DTSTART:20130407T193000
UID:/content/rbb/rbb/abendschau/serien/berlin_von_a_z/niederschoeneweide
DTSTAMP:20140405T103746
DESCRIPTION:Jeden Sonntag treffen wir in einem der 96 Berliner Ortsteile Zufallsbekanntschaften, die uns ihre Geschichte erzählen. Anja Jeschonneck war in Niederschöneweide unterwegs.\n
SUMMARY:Niederschöneweide
END:VEVENT
END:VCALENDAR
