BEGIN:VCALENDAR
X-WR-TIMEZONE:Europe/Berlin
X-WR-CALNAME:rbb-Kalender
VERSION:2.0
METHOD:PUBLISH
CALSCALE:GREGORIAN
PRODID:rbb-CMS DAY
BEGIN:VEVENT
CLASS:PUBLIC
URL:http://www.rbb-online.de/content/rbb/rbb/abendschau/serien/berlin_von_a_z/oberschoeneweide.html
DTEND:20120415T193000
DTSTART:20120415T193000
UID:/content/rbb/rbb/abendschau/serien/berlin_von_a_z/oberschoeneweide
DTSTAMP:20140405T102728
DESCRIPTION:Oberschöneweide befindet sich im Südosten Berlins und gehört zum Bezirk Treptow-Köpenick.\n\nWir machen uns auf die Suche nach den eigentümlichen Merkmalen dieses am nordöstlichen Ufer der Spree gelegenen Ortsteils. Dabei stoßen wir, neben anderen originellen Auffälligkeiten, auf seine besondere Industriegeschichte, die eng mit der AEG verbunden ist und dem Miniatur-Modellpark in der Wuhlheide, in dem fast ganz Berlin vertreten ist.\n
SUMMARY:Oberschöneweide
END:VEVENT
END:VCALENDAR
