BEGIN:VCALENDAR
X-WR-TIMEZONE:Europe/Berlin
X-WR-CALNAME:rbb-Kalender
VERSION:2.0
METHOD:PUBLISH
CALSCALE:GREGORIAN
PRODID:rbb-CMS DAY
BEGIN:VEVENT
CLASS:PUBLIC
URL:http://www.rbb-online.de/content/rbb/rbb/abendschau/serien/berlin_von_a_z/reinickendorf.html
DTEND:20120513T193000
DTSTART:20120513T193000
UID:/content/rbb/rbb/abendschau/serien/berlin_von_a_z/reinickendorf
DTSTAMP:20140405T103758
DESCRIPTION:Der westlichste Ortsteil von Reinickendorf: Heiligensee. Von der Lindenbaude, dem "Dorftreff", geht es zu Willy und seinen Hühnern und natürlich auch zum Heiligensee. Unsere Reporterin verschlägt es zu den Baggerbergen und zum Nieder Neuendorfer See auf dessen Grund noch unzählige Schiffswracks liegen.\n
SUMMARY:Heiligensee
END:VEVENT
END:VCALENDAR
