BEGIN:VCALENDAR
X-WR-TIMEZONE:Europe/Berlin
X-WR-CALNAME:rbb-Kalender
VERSION:2.0
METHOD:PUBLISH
CALSCALE:GREGORIAN
PRODID:rbb-CMS DAY
BEGIN:VEVENT
CLASS:PUBLIC
URL:http://www.rbb-online.de/content/rbb/rbb/abendschau/serien/berlin_von_a_z/rudow.html
DTEND:20120701T193000
DTSTART:20120701T193000
UID:/content/rbb/rbb/abendschau/serien/berlin_von_a_z/rudow
DTSTAMP:20140405T103127
DESCRIPTION:Berlin von A bis Z heißt unsere Abendschau-Serie, in der wir Ihnen jeden Sonntag einen der insgesamt 95 Berliner Ortsteile vorstellen. Auf unseren Streifzügen lassen wir Menschen zu Worte kommen, die dort leben und die wir zufällig treffen. Diesmal sind wir in Rudow.\n
SUMMARY:Rudow
END:VEVENT
END:VCALENDAR
