BEGIN:VCALENDAR
X-WR-TIMEZONE:Europe/Berlin
X-WR-CALNAME:rbb-Kalender
VERSION:2.0
METHOD:PUBLISH
CALSCALE:GREGORIAN
PRODID:rbb-CMS DAY
BEGIN:VEVENT
CLASS:PUBLIC
URL:http://www.rbb-online.de/content/rbb/rbb/abendschau/serien/berlin_von_a_z/rummelsburg.html
DTEND:20130120T193000
DTSTART:20130120T193000
UID:/content/rbb/rbb/abendschau/serien/berlin_von_a_z/rummelsburg
DTSTAMP:20140405T103826
DESCRIPTION:Jeden Sonntag stellen wir in der Abendschau einen der 96 Ortsteile Berlins vor. Diesmal waren wir in Rummelsburg. Hinter dem heimlichen Wahrzeichen, dem Schrotkugelturm, liegt die Viktoriastadt. Dort wirkt es bisweilen wie zu Zilles Zeiten.\n
SUMMARY:Rummelsburg
END:VEVENT
END:VCALENDAR
