BEGIN:VCALENDAR
X-WR-TIMEZONE:Europe/Berlin
X-WR-CALNAME:rbb-Kalender
VERSION:2.0
METHOD:PUBLISH
CALSCALE:GREGORIAN
PRODID:rbb-CMS DAY
BEGIN:VEVENT
CLASS:PUBLIC
URL:http://www.rbb-online.de/content/rbb/rbb/abendschau/serien/berlin_von_a_z/schmoeckwitz.html
DTEND:20120520T193000
DTSTART:20120520T193000
UID:/content/rbb/rbb/abendschau/serien/berlin_von_a_z/schmoeckwitz
DTSTAMP:20140405T103613
DESCRIPTION:Ganz im Südosten von Berlin liegt Schmöckwitz. Durch die zahlreichen Gewässer ist Schmöckwitz ein beliebtes Naherholungsgebiet der Berlin. Auch den südlichsten Punkt Berlins gibt es in Schmöckwitz zu bestaunen: ein Pfosten im Wasser.\n
SUMMARY:Schmöckwitz
END:VEVENT
END:VCALENDAR
