BEGIN:VCALENDAR
X-WR-TIMEZONE:Europe/Berlin
X-WR-CALNAME:rbb-Kalender
VERSION:2.0
METHOD:PUBLISH
CALSCALE:GREGORIAN
PRODID:rbb-CMS DAY
BEGIN:VEVENT
CLASS:PUBLIC
URL:http://www.rbb-online.de/content/rbb/rbb/abendschau/serien/berlin_von_a_z/spandau.html
DTEND:20111113T193000
DTSTART:20111113T193000
UID:/content/rbb/rbb/abendschau/serien/berlin_von_a_z/spandau
DTSTAMP:20140405T102654
DESCRIPTION:Spandau hat viel Wasser um sich herum. Die Havel fließt durch diesen Ortsteil und wir gehen an Bord eines polnischen Frachtschiffes, auf dem wir eine Schiffsführung und Kaffee bekommen. Außerdem sind wir im Kolk, das älteste Siedlungsgebiet Spandaus.\n
SUMMARY:Spandau
END:VEVENT
END:VCALENDAR
