BEGIN:VCALENDAR
X-WR-TIMEZONE:Europe/Berlin
X-WR-CALNAME:rbb-Kalender
VERSION:2.0
METHOD:PUBLISH
CALSCALE:GREGORIAN
PRODID:rbb-CMS DAY
BEGIN:VEVENT
CLASS:PUBLIC
URL:http://www.rbb-online.de/content/rbb/rbb/abendschau/serien/berlin_von_a_z/staaken.html
DTEND:20130127T193000
DTSTART:20130127T193000
UID:/content/rbb/rbb/abendschau/serien/berlin_von_a_z/staaken
DTSTAMP:20140405T103348
DESCRIPTION:Die Gartenstadt Staaken dürfte zu den schönsten Siedlungen zählen, die wir in den über 80 Folgen dieser Serie schon vorgestellt haben. Weil es in Staaken so schön ist, müssen Interessenten sechzehn Jahre und länger warten, um hier einziehen zu können - fast so lange wie auf einen Trabbi.\n
SUMMARY:Staaken
END:VEVENT
END:VCALENDAR
