BEGIN:VCALENDAR
X-WR-TIMEZONE:Europe/Berlin
X-WR-CALNAME:rbb-Kalender
VERSION:2.0
METHOD:PUBLISH
CALSCALE:GREGORIAN
PRODID:rbb-CMS DAY
BEGIN:VEVENT
CLASS:PUBLIC
URL:http://www.rbb-online.de/content/rbb/rbb/abendschau/serien/berlin_von_a_z/tiergarten.html
DTEND:20111023T193000
DTSTART:20111023T193000
UID:/content/rbb/rbb/abendschau/serien/berlin_von_a_z/tiergarten
DTSTAMP:20140405T103602
DESCRIPTION:Tiergarten - das "Fotoalbum" Berlins, denn hier findet man wohl die meisten Sehenswürdigkeiten der Stadt. Sogar eine politische Protestaktion können wir bestaunen, die natürlich angemeldet ist, aber dann doch nur zwei Leute vor den Bundestag lockt. Außerdem entdecken wir eine Pommesbude mit ganz anderen Funktionen als nur dem Verkauf von Fritten.\n
SUMMARY:Tiergarten
END:VEVENT
END:VCALENDAR
