BEGIN:VCALENDAR
X-WR-TIMEZONE:Europe/Berlin
X-WR-CALNAME:rbb-Kalender
VERSION:2.0
METHOD:PUBLISH
CALSCALE:GREGORIAN
PRODID:rbb-CMS DAY
BEGIN:VEVENT
CLASS:PUBLIC
URL:http://www.rbb-online.de/content/rbb/rbb/abendschau/serien/berlin_von_a_z/waidmannslust.html
DTEND:20120304T193000
DTSTART:20120304T193000
UID:/content/rbb/rbb/abendschau/serien/berlin_von_a_z/waidmannslust
DTSTAMP:20140405T103138
DESCRIPTION:Nur wenige Berliner kennen wohl Waidmannslust und hätte Förster Bondick Ende des 19. Jahrhunderts nicht begonnen Häuser zu bauen, wäre der Ortsteil wohl noch immer unbewohnt. Hier machen wir eine kuriose Entdeckung: ein Pferd auf einem Balkon. Doch sehen Sie selbst, was es damit auf sich hat.\n
SUMMARY:Waidmannslust
END:VEVENT
END:VCALENDAR
