BEGIN:VCALENDAR
X-WR-TIMEZONE:Europe/Berlin
X-WR-CALNAME:rbb-Kalender
VERSION:2.0
METHOD:PUBLISH
CALSCALE:GREGORIAN
PRODID:rbb-CMS DAY
BEGIN:VEVENT
CLASS:PUBLIC
URL:http://www.rbb-online.de/content/rbb/rbb/abendschau/serien/berlin_von_a_z/wannsee.html
DTEND:20120318T193000
DTSTART:20120318T193000
UID:/content/rbb/rbb/abendschau/serien/berlin_von_a_z/wannsee
DTSTAMP:20140405T103223
DESCRIPTION:Wannsee liegt im äußersten Südwesten Berlins und ist ein beliebtes Ausflugsziel. Umgeben von mehreren Seen kann man hier in ruhiger Idylle Entspannung finden. Wir sind außerdem auf der Pfaueninsel, machen einen Abstecher zum Fähranleger und schauen an Albrechts Teerofen vorbei, der von drei Seiten von der ehemaligen DDR umgeben war.\n
SUMMARY:Wannsee
END:VEVENT
END:VCALENDAR
