BEGIN:VCALENDAR
X-WR-TIMEZONE:Europe/Berlin
X-WR-CALNAME:rbb-Kalender
VERSION:2.0
METHOD:PUBLISH
CALSCALE:GREGORIAN
PRODID:rbb-CMS DAY
BEGIN:VEVENT
CLASS:PUBLIC
URL:http://www.rbb-online.de/content/rbb/rbb/abendschau/serien/berlin_von_a_z/wedding.html
DTEND:20111009T193000
DTSTART:20111009T193000
UID:/content/rbb/rbb/abendschau/serien/berlin_von_a_z/wedding
DTSTAMP:20140405T103338
DESCRIPTION:Die Blumenverkäuferin am Leopoldplatz fühlt sich wohl in Wedding. Sie liebt das harmonische Miteinander der Menschen am Leo und ist eine von etwa 77.000 Einwohnern Weddings. Nur in der Müllerhalle scheint nichts mehr los zu sein, die meisten Händler haben ihr Geschäft aufgegeben und flanieren jetzt wohl in den vielen grünen Ecken Weddings entlang, wie im Schillerpark oder am Nordufer.\n
SUMMARY:Wedding
END:VEVENT
END:VCALENDAR
