BEGIN:VCALENDAR
X-WR-TIMEZONE:Europe/Berlin
X-WR-CALNAME:rbb-Kalender
VERSION:2.0
METHOD:PUBLISH
CALSCALE:GREGORIAN
PRODID:rbb-CMS DAY
BEGIN:VEVENT
CLASS:PUBLIC
URL:http://www.rbb-online.de/content/rbb/rbb/abendschau/serien/berlin_von_a_z/wilmersdorf.html
DTEND:20111225T193000
DTSTART:20111225T193000
UID:/content/rbb/rbb/abendschau/serien/berlin_von_a_z/wilmersdorf
DTSTAMP:20140405T103704
DESCRIPTION:Außer dem trubeligen Ku'damm, besuchen wir den alten Ortskern Wilmersdorfs an der Wilhelmsaue. Weiterhin sind wir an einem der schönsten Plätze Berlins, dem Rüdersheimer Platz, sowie am Fehrbelliner Platz unterwegs - einer der ältesten Plätze Berlins.\n
SUMMARY:Wilmersdorf
END:VEVENT
END:VCALENDAR
