BEGIN:VCALENDAR
X-WR-TIMEZONE:Europe/Berlin
X-WR-CALNAME:rbb-Kalender
VERSION:2.0
METHOD:PUBLISH
CALSCALE:GREGORIAN
PRODID:rbb-CMS DAY
BEGIN:VEVENT
CLASS:PUBLIC
URL:http://www.rbb-online.de/content/rbb/rbb/abendschau/serien/gleich-nebenan/Kerzenmanufaktur_lichterglanz.html
DTEND:20140215T200000
DTSTART:20140215T193000
UID:/content/rbb/rbb/abendschau/serien/gleich-nebenan/Kerzenmanufaktur_lichterglanz
DTSTAMP:20140405T095441
DESCRIPTION:Die beiden jungen Geschäftsinhaber Susanne Nagies und Gerald Knüppel betreiben seit rund zehn Jahren in der Reinickendorfer Räuschstraße eine Kerzenmanufaktur, in der man seine Lieblingskerzen selbst ziehen kann. Vor allem für Kinder ist der kleine Laden ein Anziehungspunkt.\n\n\n
SUMMARY:Kerzenmanufaktur "Lichterglanz"
END:VEVENT
END:VCALENDAR
