BEGIN:VCALENDAR
X-WR-TIMEZONE:Europe/Berlin
X-WR-CALNAME:rbb-Kalender
VERSION:2.0
METHOD:PUBLISH
CALSCALE:GREGORIAN
PRODID:rbb-CMS DAY
BEGIN:VEVENT
CLASS:PUBLIC
URL:http://www.rbb-online.de/content/rbb/rbb/abendschau/serien/gleich-nebenan/angelhaus_koss.html
DTEND:20130622T193000
DTSTART:20130622T193000
UID:/content/rbb/rbb/abendschau/serien/gleich-nebenan/angelhaus_koss
DTSTAMP:20140407T103711
DESCRIPTION:Mitten im Sprengelkiez hat Alexander Koss mit seinen Mitarbeitern in den letzten 20 Jahren unzählige Tipps und Tricks rund ums Angeln gesammelt. Ob Rute oder Rolle, Sehne oder Schnur: In seinem Laden gibt es fast alles fürs Stippen, Raubfischangeln, Pilken und Naturköderfischen vom Ufer oder vom Boot.\n
SUMMARY:Angelhaus Koss
END:VEVENT
END:VCALENDAR
