BEGIN:VCALENDAR
X-WR-TIMEZONE:Europe/Berlin
X-WR-CALNAME:rbb-Kalender
VERSION:2.0
METHOD:PUBLISH
CALSCALE:GREGORIAN
PRODID:rbb-CMS DAY
BEGIN:VEVENT
CLASS:PUBLIC
URL:http://www.rbb-online.de/content/rbb/rbb/abendschau/serien/gleich-nebenan/das-aviation-center-berlin.html
DTEND:20140308T200000
DTSTART:20140308T193000
UID:/content/rbb/rbb/abendschau/serien/gleich-nebenan/das-aviation-center-berlin
DTSTAMP:20140405T095548
DESCRIPTION:Hier bekommt man nicht nur Flugzeuge im Bauch: Liebhaber von Luftfahrzeugen zieht es schon seit Jahren in das Aviation Center Berlin. Dort gibt es eine gigantische Auswahl an Flugzeugmodellen, von Liebhabern für Liebhaber.\n
SUMMARY:Das Aviation Center Berlin
END:VEVENT
END:VCALENDAR
