BEGIN:VCALENDAR
X-WR-TIMEZONE:Europe/Berlin
X-WR-CALNAME:rbb-Kalender
VERSION:2.0
METHOD:PUBLISH
CALSCALE:GREGORIAN
PRODID:rbb-CMS DAY
BEGIN:VEVENT
CLASS:PUBLIC
URL:http://www.rbb-online.de/content/rbb/rbb/abendschau/serien/gleich-nebenan/das-pierogarnia.html
DTEND:20140201T200000
DTSTART:20140201T193000
UID:/content/rbb/rbb/abendschau/serien/gleich-nebenan/das-pierogarnia
DTSTAMP:20140405T095710
DESCRIPTION:Pierogi sind eine polnische Spezialität: Gefüllte Teigtaschen, meistens gefüllt mit Spinat, Sauerkraut oder Fleisch – eine Art Maultaschen, nur eben ein wenig anders. Lidia Kozlowska hat sich auf dieses Gericht spezialisiert, und bietet es in der in der Pierogarnia im Wedding an.\n
SUMMARY:Die Pierogarnia
END:VEVENT
END:VCALENDAR
