BEGIN:VCALENDAR
X-WR-TIMEZONE:Europe/Berlin
X-WR-CALNAME:rbb-Kalender
VERSION:2.0
METHOD:PUBLISH
CALSCALE:GREGORIAN
PRODID:rbb-CMS DAY
BEGIN:VEVENT
CLASS:PUBLIC
URL:http://www.rbb-online.de/content/rbb/rbb/abendschau/serien/gleich-nebenan/flying-colors.html
DTEND:20131012T200000
DTSTART:20131012T193000
UID:/content/rbb/rbb/abendschau/serien/gleich-nebenan/flying-colors
DTSTAMP:20140405T095556
DESCRIPTION:Ob Bumerangs, Drachen oder Tractionskites, ob Frisbees, Jonglierartikel, Boule oder Yoyos - "Flying Colors" hat alles im Sortiment. Das Geschäft in der Eisenacher Straße in Schöneberg hat viele Stammkunden aller Altersgruppen.\n
SUMMARY:Drachenladen "Flying Colors"
END:VEVENT
END:VCALENDAR
