BEGIN:VCALENDAR
X-WR-TIMEZONE:Europe/Berlin
X-WR-CALNAME:rbb-Kalender
VERSION:2.0
METHOD:PUBLISH
CALSCALE:GREGORIAN
PRODID:rbb-CMS DAY
BEGIN:VEVENT
CLASS:PUBLIC
URL:http://www.rbb-online.de/content/rbb/rbb/abendschau/serien/gleich-nebenan/fototechnik-fehling.html
DTEND:20140111T200000
DTSTART:20140111T193000
UID:/content/rbb/rbb/abendschau/serien/gleich-nebenan/fototechnik-fehling
DTSTAMP:20140405T095538
DESCRIPTION:Vor Jahren hat die digitale Fotografie ihren Siegeszug gegen Fotoläden in den Kiezen angetreten. Entweder drucken die Menschen ihre Fotos selbst aus oder geben sie zu Discoutern. Aber einige Fotoläden sind noch da. Zum Beispiel in Schöneberg, wo der Meister auch noch Abzüge wie in den "guten alten Zeiten" herstellen kann.\n
SUMMARY:Fototechnik Fehling
END:VEVENT
END:VCALENDAR
