BEGIN:VCALENDAR
X-WR-TIMEZONE:Europe/Berlin
X-WR-CALNAME:rbb-Kalender
VERSION:2.0
METHOD:PUBLISH
CALSCALE:GREGORIAN
PRODID:rbb-CMS DAY
BEGIN:VEVENT
CLASS:PUBLIC
URL:http://www.rbb-online.de/content/rbb/rbb/abendschau/serien/gleich-nebenan/gleich-nebenan-baeckerei-tubandt.html
DTEND:20130907T200000
DTSTART:20130907T193000
UID:/content/rbb/rbb/abendschau/serien/gleich-nebenan/gleich-nebenan-baeckerei-tubandt
DTSTAMP:20140405T095825
DESCRIPTION:Seit mehr als 90 Jahren setzt die Bäckerei Tubandt ganz in der Nahe des S-Bahnhofs Karow auf traditionelles Handwerk. Mit Kreativität und Leidenschaft zieht das Team um Bäckermeister Peter Tubandt inzwischen Stammkunden aus ganz Berlin an.\n
SUMMARY:Bäckerei Tubandt	
END:VEVENT
END:VCALENDAR
