BEGIN:VCALENDAR
X-WR-TIMEZONE:Europe/Berlin
X-WR-CALNAME:rbb-Kalender
VERSION:2.0
METHOD:PUBLISH
CALSCALE:GREGORIAN
PRODID:rbb-CMS DAY
BEGIN:VEVENT
CLASS:PUBLIC
URL:http://www.rbb-online.de/content/rbb/rbb/abendschau/serien/gleich-nebenan/gleich-nebenan-buchhandlung-leselust-in-waidmannslust.html
DTEND:20131221T200000
DTSTART:20131221T193000
UID:/content/rbb/rbb/abendschau/serien/gleich-nebenan/gleich-nebenan-buchhandlung-leselust-in-waidmannslust
DTSTAMP:20140405T095650
DESCRIPTION:Die Buchhandlung Leselust macht ihrem Namen alle Ehre - sie macht Lust auf Lesen. Insbesondere haben sich die beiden Inhaber auf Kinder- und Jugendliteratur spezialisiert.\n
SUMMARY:Buchhandlung Leselust in Waidmannslust
END:VEVENT
END:VCALENDAR
