BEGIN:VCALENDAR
X-WR-TIMEZONE:Europe/Berlin
X-WR-CALNAME:rbb-Kalender
VERSION:2.0
METHOD:PUBLISH
CALSCALE:GREGORIAN
PRODID:rbb-CMS DAY
BEGIN:VEVENT
CLASS:PUBLIC
URL:http://www.rbb-online.de/content/rbb/rbb/abendschau/serien/gleich-nebenan/gleich-nebenan-geigenbauer.html
DTEND:20140118T200000
DTSTART:20140118T193000
UID:/content/rbb/rbb/abendschau/serien/gleich-nebenan/gleich-nebenan-geigenbauer
DTSTAMP:20140405T095418
DESCRIPTION:Seit rund 30 Jahren fertigt Geigenbaumeister Andreas Zimmermann in seiner kleinen Werkstatt in der Kaiser-Friedrich-Straße Streichinstrumente. Nur mit Fingerspitzengefühl und viel Geduld kann man eine Geige, Bratsche oder ein Cello zum Klingen zu bringen.\n\n\n\n\n
SUMMARY:Das Paradies der Geigen
END:VEVENT
END:VCALENDAR
