BEGIN:VCALENDAR
X-WR-TIMEZONE:Europe/Berlin
X-WR-CALNAME:rbb-Kalender
VERSION:2.0
METHOD:PUBLISH
CALSCALE:GREGORIAN
PRODID:rbb-CMS DAY
BEGIN:VEVENT
CLASS:PUBLIC
URL:http://www.rbb-online.de/content/rbb/rbb/abendschau/serien/gleich-nebenan/gleich_nebenan.html
DTEND:20130420T193000
DTSTART:20130420T193000
UID:/content/rbb/rbb/abendschau/serien/gleich-nebenan/gleich_nebenan
DTSTAMP:20140407T103746
DESCRIPTION:Ein guter Blechkuchen ist schon eine kleine Kunst. Für Nico Müller aber war der Blechkuchen nie genug, er wollte mehr: Nach der Lehre ist der Konditor von der Ostseeküste nach Berlin gezogen und hat sich zu einem wahren Süß-Künstler entwickelt.\n
SUMMARY:Süß-Künstler in Wilmersdorf
END:VEVENT
END:VCALENDAR
