BEGIN:VCALENDAR
X-WR-TIMEZONE:Europe/Berlin
X-WR-CALNAME:rbb-Kalender
VERSION:2.0
METHOD:PUBLISH
CALSCALE:GREGORIAN
PRODID:rbb-CMS DAY
BEGIN:VEVENT
CLASS:PUBLIC
URL:http://www.rbb-online.de/content/rbb/rbb/abendschau/serien/gleich-nebenan/haus_der_guten_taten.html
DTEND:20130413T193000
DTSTART:20130413T193000
UID:/content/rbb/rbb/abendschau/serien/gleich-nebenan/haus_der_guten_taten
DTSTAMP:20140407T103913
DESCRIPTION:Im gemeinnützigen "Haus der guten Taten" geht es nicht darum, Gewinne zu erwirtschaften, sondern im Vordergrund steht das soziale Engagement. Vom Verkauf der rund 20000 Produkte profitieren u.a. Menschen mit Beeinträchtigungen.\n
SUMMARY:Haus der guten Taten
END:VEVENT
END:VCALENDAR
