BEGIN:VCALENDAR
X-WR-TIMEZONE:Europe/Berlin
X-WR-CALNAME:rbb-Kalender
VERSION:2.0
METHOD:PUBLISH
CALSCALE:GREGORIAN
PRODID:rbb-CMS DAY
BEGIN:VEVENT
CLASS:PUBLIC
URL:http://www.rbb-online.de/content/rbb/rbb/abendschau/serien/gleich-nebenan/nebenan-kunstquell.html
DTEND:20131228T200000
DTSTART:20131228T193000
UID:/content/rbb/rbb/abendschau/serien/gleich-nebenan/nebenan-kunstquell
DTSTAMP:20140405T095628
DESCRIPTION:Zwei leidenschaftliche Malerinnen haben in der Pistoriusstraße vor zwei Jahren einen außergewöhnlichen Kieztreff eröffnet: Sie verkaufen in ihrem Laden nicht nur Schreibwaren und Künstlerbedarf, sondern laden bei Kaffee und Kuchen auch zu Mal- und Strickkursen ein.\n\n\n
SUMMARY:Gleich nebenan: Kunstquell Weißensee 
END:VEVENT
END:VCALENDAR
